BEGIN:VCALENDAR
VERSION:2.0
PRODID:-//DCNY Dems - ECPv6.15.20//NONSGML v1.0//EN
CALSCALE:GREGORIAN
METHOD:PUBLISH
X-ORIGINAL-URL:https://dcnydems.org
X-WR-CALDESC:Events for DCNY Dems
REFRESH-INTERVAL;VALUE=DURATION:PT1H
X-Robots-Tag:noindex
X-PUBLISHED-TTL:PT1H
BEGIN:VTIMEZONE
TZID:UTC
BEGIN:STANDARD
TZOFFSETFROM:+0000
TZOFFSETTO:+0000
TZNAME:UTC
DTSTART:20230101T000000
END:STANDARD
END:VTIMEZONE
BEGIN:VEVENT
DTSTART;TZID=UTC:20240228T080000
DTEND;TZID=UTC:20240331T170000
DTSTAMP:20260422T121100
CREATED:20240114T064409Z
LAST-MODIFIED:20240229T031101Z
UID:5529-1709107200-1711904400@dcnydems.org
SUMMARY:Petitioning: Getting Candidates on the Ballot
DESCRIPTION:The Board of Election Calendar is still being finalized\, but look for 2024 petitioning in late February through mid late March. Petition signatures from registered Democrats in the district is how we get candidates on the ballot. You can help by contacting your local Dem Committee member and letting them know you want to sign. You can also help us witness signatures.
URL:https://dcnydems.org/event/petitioning-getting-candidates-on-the-ballot/
CATEGORIES:Petitioning
END:VEVENT
BEGIN:VEVENT
DTSTART;TZID=UTC:20240320T110000
DTEND;TZID=UTC:20240320T130000
DTSTAMP:20260422T121100
CREATED:20240303T212111Z
LAST-MODIFIED:20240303T212111Z
UID:6373-1710932400-1710939600@dcnydems.org
SUMMARY:DCDC HQ Open
DESCRIPTION:The Delaware County Democratic Committee Headquarters will be open Wednesdays and Saturdays from 11am-1pm for petition signers\, conversations or to just say hi.
URL:https://dcnydems.org/event/dcdc-hq-open-3/
LOCATION:DCDC HQ\, 98 Main Street\, Delhi\, 13753\, United States
CATEGORIES:Tabling Event
END:VEVENT
BEGIN:VEVENT
DTSTART;TZID=UTC:20240320T180000
DTEND;TZID=UTC:20240320T193000
DTSTAMP:20260422T121100
CREATED:20240119T010107Z
LAST-MODIFIED:20240229T025234Z
UID:5827-1710957600-1710963000@dcnydems.org
SUMMARY:DCDC Business Meeting
DESCRIPTION:DCDC Business Meetings are held the 3rd Wednesday of the month. Meetings are held at 6pm via Zoom unless otherwise indicated. Meetings are open to all Democrats. Contact us to receive the meeting Zoom link and meeting protocols.
URL:https://dcnydems.org/event/dcdc-business-meeting-3/
LOCATION:Zoom\, United States
CATEGORIES:DCDC Business Meeting
END:VEVENT
END:VCALENDAR