BEGIN:VCALENDAR
VERSION:2.0
PRODID:-//DCNY Dems - ECPv6.15.20//NONSGML v1.0//EN
CALSCALE:GREGORIAN
METHOD:PUBLISH
X-ORIGINAL-URL:https://dcnydems.org
X-WR-CALDESC:Events for DCNY Dems
REFRESH-INTERVAL;VALUE=DURATION:PT1H
X-Robots-Tag:noindex
X-PUBLISHED-TTL:PT1H
BEGIN:VTIMEZONE
TZID:UTC
BEGIN:STANDARD
TZOFFSETFROM:+0000
TZOFFSETTO:+0000
TZNAME:UTC
DTSTART:20230101T000000
END:STANDARD
END:VTIMEZONE
BEGIN:VEVENT
DTSTART;TZID=UTC:20240228T080000
DTEND;TZID=UTC:20240331T170000
DTSTAMP:20260422T121102
CREATED:20240114T064409Z
LAST-MODIFIED:20240229T031101Z
UID:5529-1709107200-1711904400@dcnydems.org
SUMMARY:Petitioning: Getting Candidates on the Ballot
DESCRIPTION:The Board of Election Calendar is still being finalized\, but look for 2024 petitioning in late February through mid late March. Petition signatures from registered Democrats in the district is how we get candidates on the ballot. You can help by contacting your local Dem Committee member and letting them know you want to sign. You can also help us witness signatures.
URL:https://dcnydems.org/event/petitioning-getting-candidates-on-the-ballot/
CATEGORIES:Petitioning
END:VEVENT
BEGIN:VEVENT
DTSTART;TZID=UTC:20240330T090000
DTEND;TZID=UTC:20240330T180000
DTSTAMP:20260422T121102
CREATED:20240220T015650Z
LAST-MODIFIED:20240301T034022Z
UID:6209-1711789200-1711821600@dcnydems.org
SUMMARY:Early Voting - Pres. Primary
DESCRIPTION:Extended hours to 8pm on Tuesday and Thursday. DCBOE is accessible to voters with disabilities. When you vote early\, you have voted (i.e. you will NOT be allowed to vote again later at the polls on Election Day).
URL:https://dcnydems.org/event/early-voting-pres-primary-2/
LOCATION:DC BOE\, 97 Main Street\, Suite 5\, Delhi\, NY\, 13753-1015\, United States
CATEGORIES:Election
END:VEVENT
BEGIN:VEVENT
DTSTART;TZID=UTC:20240330T110000
DTEND;TZID=UTC:20240330T140000
DTSTAMP:20260422T121102
CREATED:20240303T213033Z
LAST-MODIFIED:20240318T234057Z
UID:6383-1711796400-1711807200@dcnydems.org
SUMMARY:DCDC HQ Open
DESCRIPTION:The Delaware County Democratic Committee Headquarters will be open Wednesdays and Saturdays from 11am-2pm for petition signers\, conversations or to just say hi.
URL:https://dcnydems.org/event/dcdc-hq-open-8/
LOCATION:DCDC HQ\, 98 Main Street\, Delhi\, 13753\, United States
CATEGORIES:Tabling Event
END:VEVENT
END:VCALENDAR