BEGIN:VCALENDAR
VERSION:2.0
PRODID:-//DCNY Dems - ECPv6.15.20//NONSGML v1.0//EN
CALSCALE:GREGORIAN
METHOD:PUBLISH
X-ORIGINAL-URL:https://dcnydems.org
X-WR-CALDESC:Events for DCNY Dems
REFRESH-INTERVAL;VALUE=DURATION:PT1H
X-Robots-Tag:noindex
X-PUBLISHED-TTL:PT1H
BEGIN:VTIMEZONE
TZID:UTC
BEGIN:STANDARD
TZOFFSETFROM:+0000
TZOFFSETTO:+0000
TZNAME:UTC
DTSTART:20230101T000000
END:STANDARD
END:VTIMEZONE
BEGIN:VEVENT
DTSTART;TZID=UTC:20240526T100000
DTEND;TZID=UTC:20240526T160000
DTSTAMP:20260422T085218
CREATED:20240406T205825Z
LAST-MODIFIED:20240406T205825Z
UID:6505-1716717600-1716739200@dcnydems.org
SUMMARY:Fleischmanns Street Fair
DESCRIPTION:Annual Memorial Day Weekend Street Fair\, Main Street\, Fleischmanns\, NY. Music\, food\, crafts and more. Admission is free. Middletown Democrats will have a table at this event.
URL:https://dcnydems.org/event/fleischmanns-street-fair/
LOCATION:Fleischmanns Street Fair\, Main Street\, Fleischmanns\, NY\, United States
END:VEVENT
END:VCALENDAR