BEGIN:VCALENDAR
VERSION:2.0
PRODID:-//DCNY Dems - ECPv6.15.20//NONSGML v1.0//EN
CALSCALE:GREGORIAN
METHOD:PUBLISH
X-WR-CALNAME:DCNY Dems
X-ORIGINAL-URL:https://dcnydems.org
X-WR-CALDESC:Events for DCNY Dems
REFRESH-INTERVAL;VALUE=DURATION:PT1H
X-Robots-Tag:noindex
X-PUBLISHED-TTL:PT1H
BEGIN:VTIMEZONE
TZID:UTC
BEGIN:STANDARD
TZOFFSETFROM:+0000
TZOFFSETTO:+0000
TZNAME:UTC
DTSTART:20230101T000000
END:STANDARD
END:VTIMEZONE
BEGIN:VEVENT
DTSTART;TZID=UTC:20241023T110000
DTEND;TZID=UTC:20241023T170000
DTSTAMP:20260422T001714
CREATED:20241013T001434Z
LAST-MODIFIED:20241013T001434Z
UID:7309-1729681200-1729702800@dcnydems.org
SUMMARY:DCDC HQ Open
DESCRIPTION:The Delaware County Democratic Committee Headquarters in Delhi serves as a hub for voters looking for local information\, voter forms\, lawn signs\, ways to volunteer or a place to meet and talk with fellow Democrats in a friendly environment. In the last weeks before the election\, hours and days will expand. Check back for updates.
URL:https://dcnydems.org/event/dcdc-hq-open-10/
LOCATION:DCDC HQ\, 98 Main Street\, Delhi\, 13753\, United States
CATEGORIES:Tabling Event,Volunteer Event
END:VEVENT
BEGIN:VEVENT
DTSTART;TZID=UTC:20241023T180000
DTEND;TZID=UTC:20241023T193000
DTSTAMP:20260422T001714
CREATED:20240119T010445Z
LAST-MODIFIED:20240229T030127Z
UID:5841-1729706400-1729711800@dcnydems.org
SUMMARY:DCDC Business Meeting
DESCRIPTION:DCDC Business Meetings are held the 3rd Wednesday of the month. Meetings are held at 6pm via Zoom unless otherwise indicated. Meetings are open to all Democrats. Contact us to receive the meeting Zoom link and meeting protocols.
URL:https://dcnydems.org/event/dcdc-business-meeting-10/
LOCATION:Zoom\, United States
CATEGORIES:DCDC Business Meeting
END:VEVENT
END:VCALENDAR