BEGIN:VCALENDAR
VERSION:2.0
PRODID:-//DCNY Dems - ECPv6.15.20//NONSGML v1.0//EN
CALSCALE:GREGORIAN
METHOD:PUBLISH
X-WR-CALNAME:DCNY Dems
X-ORIGINAL-URL:https://dcnydems.org
X-WR-CALDESC:Events for DCNY Dems
REFRESH-INTERVAL;VALUE=DURATION:PT1H
X-Robots-Tag:noindex
X-PUBLISHED-TTL:PT1H
BEGIN:VTIMEZONE
TZID:UTC
BEGIN:STANDARD
TZOFFSETFROM:+0000
TZOFFSETTO:+0000
TZNAME:UTC
DTSTART:20240101T000000
END:STANDARD
END:VTIMEZONE
BEGIN:VEVENT
DTSTART;TZID=UTC:20250225T090000
DTEND;TZID=UTC:20250331T170000
DTSTAMP:20260421T152807
CREATED:20250124T000326Z
LAST-MODIFIED:20250124T000326Z
UID:7630-1740474000-1743440400@dcnydems.org
SUMMARY:Petitioning: Getting Candidates on the Ballot
DESCRIPTION:Petition signatures from registered Democrats in the district is how we get candidates on the ballot. You can help by contacting your local Dem Committee member and letting them know you want to sign. You can also help us witness signatures.
URL:https://dcnydems.org/event/petitioning-getting-candidates-on-the-ballot-2/
CATEGORIES:Petitioning
END:VEVENT
BEGIN:VEVENT
DTSTART;TZID=UTC:20250330T130000
DTEND;TZID=UTC:20250330T140000
DTSTAMP:20260421T152807
CREATED:20250320T180825Z
LAST-MODIFIED:20250320T180825Z
UID:7961-1743339600-1743343200@dcnydems.org
SUMMARY:DC Resistance Virtual Rally
DESCRIPTION:Virtual Rally via Zoom every alternate Sunday at 1pm. Registration required. Subscribers will be notified via email. Use the red “Subscribe” button on the home page. Updates will also be posted on the home page and on FB.
URL:https://dcnydems.org/event/dc-resistance-virtual-rally/
LOCATION:Zoom\, United States
CATEGORIES:Rally
END:VEVENT
END:VCALENDAR