BEGIN:VCALENDAR
VERSION:2.0
PRODID:-//DCNY Dems - ECPv6.15.20//NONSGML v1.0//EN
CALSCALE:GREGORIAN
METHOD:PUBLISH
X-WR-CALNAME:DCNY Dems
X-ORIGINAL-URL:https://dcnydems.org
X-WR-CALDESC:Events for DCNY Dems
REFRESH-INTERVAL;VALUE=DURATION:PT1H
X-Robots-Tag:noindex
X-PUBLISHED-TTL:PT1H
BEGIN:VTIMEZONE
TZID:UTC
BEGIN:STANDARD
TZOFFSETFROM:+0000
TZOFFSETTO:+0000
TZNAME:UTC
DTSTART:20240101T000000
END:STANDARD
END:VTIMEZONE
BEGIN:VEVENT
DTSTART;TZID=UTC:20250525T080000
DTEND;TZID=UTC:20250525T170000
DTSTAMP:20260421T120711
CREATED:20250517T004539Z
LAST-MODIFIED:20250517T004539Z
UID:8380-1748160000-1748192400@dcnydems.org
SUMMARY:DC Resisters Virtual Rally
DESCRIPTION:Virtual Rally via Zoom every alternate Sunday @ 1pm. Registration required. Subscribers will be notified of all upcoming events via eBlast. Use the red “Subscribe” button on the home page. Updates will also be posted on the home page.
URL:https://dcnydems.org/event/dc-resisters-virtual-rally-2/
CATEGORIES:Zoom
END:VEVENT
BEGIN:VEVENT
DTSTART;TZID=UTC:20250525T100000
DTEND;TZID=UTC:20250525T160000
DTSTAMP:20260421T120711
CREATED:20250504T234052Z
LAST-MODIFIED:20250504T234052Z
UID:8316-1748167200-1748188800@dcnydems.org
SUMMARY:Fleischmanns Street Fair
DESCRIPTION:Annual Fleischmanns Memorial Day Weekend Street Fair. Music\, food\, crafts\, vendors. Middletown Democrats will have a booth with literature and thank you gifts for donors. Meet local candidates.
URL:https://dcnydems.org/event/fleischmanns-street-fair-2/
LOCATION:Fleischmanns Street Fair\, Main Street\, Fleischmanns\, NY\, United States
CATEGORIES:Tabling Event
END:VEVENT
END:VCALENDAR