BEGIN:VCALENDAR
VERSION:2.0
PRODID:-//DCNY Dems - ECPv6.15.20//NONSGML v1.0//EN
CALSCALE:GREGORIAN
METHOD:PUBLISH
X-WR-CALNAME:DCNY Dems
X-ORIGINAL-URL:https://dcnydems.org
X-WR-CALDESC:Events for DCNY Dems
REFRESH-INTERVAL;VALUE=DURATION:PT1H
X-Robots-Tag:noindex
X-PUBLISHED-TTL:PT1H
BEGIN:VTIMEZONE
TZID:UTC
BEGIN:STANDARD
TZOFFSETFROM:+0000
TZOFFSETTO:+0000
TZNAME:UTC
DTSTART:20230101T000000
END:STANDARD
END:VTIMEZONE
BEGIN:VEVENT
DTSTART;TZID=UTC:20240221T180000
DTEND;TZID=UTC:20240221T193000
DTSTAMP:20260419T161203
CREATED:20240119T010007Z
LAST-MODIFIED:20240229T031007Z
UID:5823-1708538400-1708543800@dcnydems.org
SUMMARY:DCDC Business Meeting
DESCRIPTION:DCDC Business Meetings are held the 3rd Wednesday of the month. Meetings are held at 6pm via Zoom unless otherwise indicated. Meetings are open to all Democrats. Contact us to receive the meeting Zoom link and meeting protocols.
URL:https://dcnydems.org/event/dcdc-business-meeting-2/
LOCATION:Zoom\, United States
CATEGORIES:DCDC Business Meeting
END:VEVENT
BEGIN:VEVENT
DTSTART;TZID=UTC:20240214T083000
DTEND;TZID=UTC:20240214T160000
DTSTAMP:20260419T161203
CREATED:20240125T213134Z
LAST-MODIFIED:20240229T030948Z
UID:6002-1707899400-1707926400@dcnydems.org
SUMMARY:Change of Party Enrollment Due Date
DESCRIPTION:Change of enrollment must be received by February 14 to be effective immediately. Any change of enrollment made between February 15 – July 5 shall be effective July 5th.
URL:https://dcnydems.org/event/change-of-party-enrollment-due-date-2/
LOCATION:DC BOE\, 97 Main Street\, Suite 5\, Delhi\, NY\, 13753-1015\, United States
CATEGORIES:Election
END:VEVENT
BEGIN:VEVENT
DTSTART;TZID=UTC:20240208T183000
DTEND;TZID=UTC:20240208T193000
DTSTAMP:20260419T161203
CREATED:20240131T041749Z
LAST-MODIFIED:20240229T030922Z
UID:6007-1707417000-1707420600@dcnydems.org
SUMMARY:Sidney Democratic Coffee Group
DESCRIPTION:Please join the Sidney Democratic Coffee Group for a Social Hour at the Sidney Memorial Library Community Room on Thursday February 8th from 6:30 – 7:30pm. \nThe purpose is to meet local Democrats and other residents from all or no particular party\, to discuss the needs and policies in Sidney. \nLight refreshments will be provided. \nAll are welcome!
URL:https://dcnydems.org/event/sidney-democratic-coffee-group/
LOCATION:Sidney Memorial Library\, 8 River Street\, Sidney\, NY\, 13838\, United States
CATEGORIES:Public Event (no tabling)
END:VEVENT
END:VCALENDAR