BEGIN:VCALENDAR
VERSION:2.0
PRODID:-//DCNY Dems - ECPv6.15.20//NONSGML v1.0//EN
CALSCALE:GREGORIAN
METHOD:PUBLISH
X-WR-CALNAME:DCNY Dems
X-ORIGINAL-URL:https://dcnydems.org
X-WR-CALDESC:Events for DCNY Dems
REFRESH-INTERVAL;VALUE=DURATION:PT1H
X-Robots-Tag:noindex
X-PUBLISHED-TTL:PT1H
BEGIN:VTIMEZONE
TZID:UTC
BEGIN:STANDARD
TZOFFSETFROM:+0000
TZOFFSETTO:+0000
TZNAME:UTC
DTSTART:20230101T000000
END:STANDARD
END:VTIMEZONE
BEGIN:VEVENT
DTSTART;TZID=UTC:20240402T060000
DTEND;TZID=UTC:20240402T210000
DTSTAMP:20260422T085221
CREATED:20240212T042659Z
LAST-MODIFIED:20240229T025556Z
UID:6105-1712037600-1712091600@dcnydems.org
SUMMARY:Presidential Primary Election
DESCRIPTION:Presidential Primary Election. Polls open 6am-9pm. Last day for absentee ballots to be postmarked (or absentee ballot to be delivered by agent to the Board of Elections.)
URL:https://dcnydems.org/event/presidential-primary-election/
END:VEVENT
BEGIN:VEVENT
DTSTART;TZID=UTC:20240417T180000
DTEND;TZID=UTC:20240417T193000
DTSTAMP:20260422T085221
CREATED:20240119T010150Z
LAST-MODIFIED:20240229T025635Z
UID:5829-1713376800-1713382200@dcnydems.org
SUMMARY:DCDC Business Meeting
DESCRIPTION:DCDC Business Meetings are held the 3rd Wednesday of the month. Meetings are held at 6pm via Zoom unless otherwise indicated. Meetings are open to all Democrats. Contact us to receive the meeting Zoom link and meeting protocols.
URL:https://dcnydems.org/event/dcdc-business-meeting-4/
LOCATION:Zoom\, United States
CATEGORIES:DCDC Business Meeting
END:VEVENT
END:VCALENDAR