BEGIN:VCALENDAR
VERSION:2.0
PRODID:-//DCNY Dems - ECPv6.15.20//NONSGML v1.0//EN
CALSCALE:GREGORIAN
METHOD:PUBLISH
X-ORIGINAL-URL:https://dcnydems.org
X-WR-CALDESC:Events for DCNY Dems
REFRESH-INTERVAL;VALUE=DURATION:PT1H
X-Robots-Tag:noindex
X-PUBLISHED-TTL:PT1H
BEGIN:VTIMEZONE
TZID:UTC
BEGIN:STANDARD
TZOFFSETFROM:+0000
TZOFFSETTO:+0000
TZNAME:UTC
DTSTART:20230101T000000
END:STANDARD
END:VTIMEZONE
BEGIN:VEVENT
DTSTART;TZID=UTC:20240717T180000
DTEND;TZID=UTC:20240717T193000
DTSTAMP:20260422T033929
CREATED:20240119T010312Z
LAST-MODIFIED:20240229T025908Z
UID:5835-1721239200-1721244600@dcnydems.org
SUMMARY:DCDC Business Meeting
DESCRIPTION:DCDC Business Meetings are held the 3rd Wednesday of the month. Meetings are held at 6pm via Zoom unless otherwise indicated. Meetings are open to all Democrats. Contact us to receive the meeting Zoom link and meeting protocols.
URL:https://dcnydems.org/event/dcdc-business-meeting-7/
LOCATION:Zoom\, United States
CATEGORIES:DCDC Business Meeting
END:VEVENT
BEGIN:VEVENT
DTSTART;TZID=UTC:20240728T140000
DTEND;TZID=UTC:20240728T170000
DTSTAMP:20260422T033929
CREATED:20240505T012519Z
LAST-MODIFIED:20240705T231955Z
UID:6575-1722175200-1722186000@dcnydems.org
SUMMARY:DCDC Friendraiser Picnic
DESCRIPTION:You are invited to a community picnic to encourage voter turnout. Food\, drinks and kids’ activities provided. RSVP encouraged. $25 donation suggested. Children accompanied by an adult and active-duty service members are free! \nUse the link to make a secure ActBlue online donation. Then email our hosts at skhardison@hotmail.com to let them know how are in your party. It helps them plan. Sponsored by the Delaware County Democratic Committee. Rain Date: Sunday\, August 4 from 2-5pm.
URL:https://dcnydems.org/event/dcdc-friendraiser/
LOCATION:3999 County Hwy 16\, Delhi\, NY 13753\, 3999 County Hwy 16\, Delhi\, NY\, 13753\, United States
CATEGORIES:Fundraiser
ATTACH;FMTTYPE=image/jpeg:https://dcnydems.org/wp-content/uploads/2024/07/DCDC_July28RSVPflat.jpg
END:VEVENT
END:VCALENDAR