BEGIN:VCALENDAR
VERSION:2.0
PRODID:-//DCNY Dems - ECPv6.15.20//NONSGML v1.0//EN
CALSCALE:GREGORIAN
METHOD:PUBLISH
X-WR-CALNAME:DCNY Dems
X-ORIGINAL-URL:https://dcnydems.org
X-WR-CALDESC:Events for DCNY Dems
REFRESH-INTERVAL;VALUE=DURATION:PT1H
X-Robots-Tag:noindex
X-PUBLISHED-TTL:PT1H
BEGIN:VTIMEZONE
TZID:UTC
BEGIN:STANDARD
TZOFFSETFROM:+0000
TZOFFSETTO:+0000
TZNAME:UTC
DTSTART:20230101T000000
END:STANDARD
END:VTIMEZONE
BEGIN:VEVENT
DTSTART;TZID=UTC:20240908T120000
DTEND;TZID=UTC:20240908T150000
DTSTAMP:20260422T001750
CREATED:20240418T002858Z
LAST-MODIFIED:20240418T002858Z
UID:6548-1725796800-1725807600@dcnydems.org
SUMMARY:Soapbox Social
DESCRIPTION:JOIN MIDDLETOWN AREA DEMOCRATS! Live music. Free ice cream. Meet and hear candidates. Hamburgers\, hot dogs and veggie patties available for purchase. Baked good\, T-Shirts (and more) for donation. Festivities start at noon. Candidate speeches around 1-2pm. All are welcome — Middletown and neighbors beyond — both the Dem and Dem Curious. This is a Delaware County Democratic Committee event sponsored by Middletown Dems.
URL:https://dcnydems.org/event/soapbox-social/
LOCATION:Margaretville Village Park\, Bridge Street\, Margaretville\, NY\, 12455\, United States
CATEGORIES:Tabling Event
ORGANIZER;CN="Middletown Democrats":MAILTO:midtwndem@catskill.net
END:VEVENT
BEGIN:VEVENT
DTSTART;TZID=UTC:20240914T120000
DTEND;TZID=UTC:20240914T160000
DTSTAMP:20260422T001750
CREATED:20240904T004918Z
LAST-MODIFIED:20240904T004918Z
UID:7154-1726315200-1726329600@dcnydems.org
SUMMARY:Muddy River Farm Brewery Meet Our Candidates
DESCRIPTION:Meet NYS Senate District 51 candidate Michele Frazier and NYS Assembly District 121 candidate Vicki Davis for a pet and kid friendly afternoon. Food and beverage available for purchase from the Muddy River Brews Food Truck.
URL:https://dcnydems.org/event/muddy-river-farm-brewery-meet-our-candidates/
LOCATION:Muddy River Farm Brewery\, 15544 County Hwy 23\, Unadilla\, NY\, 13849\, United States
END:VEVENT
BEGIN:VEVENT
DTSTART;TZID=UTC:20240917T170000
DTEND;TZID=UTC:20240917T190000
DTSTAMP:20260422T001750
CREATED:20240602T011329Z
LAST-MODIFIED:20240823T233431Z
UID:6718-1726592400-1726599600@dcnydems.org
SUMMARY:Voter Registration / Constitution Celebration
DESCRIPTION:Celebrate the Constitution – Square Up for Voter Registration\, the Bill of Rights and Freedom of the Press. This public event is sponsored by the Delaware County Democratic Committee to commemorate September 17\, 1787 when 39 of the 55 delegates signed the Constitution.  \nGather at 5pm. Program at 5:30pm. Voter Registration Forms will be available. Program will feature a short address by Richard Stein\, former co-publisher and general manager of the Riverdale Press\, a Pulitzer Prize winning weekly newspaper in the Bronx. Stein will focus on the importance of a free press in our democracy. In addition\, there will be readings of the Bill of Rights\, music\, a “know your Constitution” quiz and homemade baked goods.
URL:https://dcnydems.org/event/celebrate-the-1st-amendment-free-press/
LOCATION:Delhi Courthouse Square\, Church Street\, Delhi\, 13753
CATEGORIES:Tabling Event
END:VEVENT
BEGIN:VEVENT
DTSTART;TZID=UTC:20240918T180000
DTEND;TZID=UTC:20240918T193000
DTSTAMP:20260422T001750
CREATED:20240119T010415Z
LAST-MODIFIED:20240229T030052Z
UID:5839-1726682400-1726687800@dcnydems.org
SUMMARY:DCDC Business Meeting
DESCRIPTION:DCDC Business Meetings are held the 3rd Wednesday of the month. Meetings are held at 6pm via Zoom unless otherwise indicated. Meetings are open to all Democrats. Contact us to receive the meeting Zoom link and meeting protocols.
URL:https://dcnydems.org/event/dcdc-business-meeting-9/
LOCATION:Zoom\, United States
CATEGORIES:DCDC Business Meeting
END:VEVENT
BEGIN:VEVENT
DTSTART;TZID=UTC:20240921T110000
DTEND;TZID=UTC:20240921T160000
DTSTAMP:20260422T001750
CREATED:20240709T064352Z
LAST-MODIFIED:20240709T064352Z
UID:6854-1726916400-1726934400@dcnydems.org
SUMMARY:Cauliflower Festival
DESCRIPTION:al1903 Auto Rally of Antique and Restored Vehicles. Tractor Parade at 11:30am.
URL:https://dcnydems.org/event/cauliflower-festival/
LOCATION:Margaretville Village Park\, Bridge Street\, Margaretville\, NY\, 12455\, United States
CATEGORIES:Tabling Event
ORGANIZER;CN="Central Catskills Chamber of Commerce":MAILTO:silvert@catskill.net
END:VEVENT
BEGIN:VEVENT
DTSTART;TZID=UTC:20240922T130000
DTEND;TZID=UTC:20240922T160000
DTSTAMP:20260422T001750
CREATED:20240823T012123Z
LAST-MODIFIED:20240831T211321Z
UID:7063-1727010000-1727020800@dcnydems.org
SUMMARY:Josh Riley Fundraiser featuring Al Franken
DESCRIPTION:Candidate Fundraiser for Josh Riley featuring Al Franken. Birdsong Farm Community Garden\, Hamden\, NY
URL:https://dcnydems.org/event/josh-riley-fundraiser-featuring-al-franken/
LOCATION:Birdsong Farm Community Garden\, 38480 State Hwy 10\, Delhi\, 13782
CATEGORIES:Fundraiser,Meet the Candidate
ORGANIZER;CN="Cindie & Jim Smart":MAILTO:ronald@joshrileyforcongress.com
END:VEVENT
END:VCALENDAR