BEGIN:VCALENDAR
VERSION:2.0
PRODID:-//DCNY Dems - ECPv6.15.20//NONSGML v1.0//EN
CALSCALE:GREGORIAN
METHOD:PUBLISH
X-ORIGINAL-URL:https://dcnydems.org
X-WR-CALDESC:Events for DCNY Dems
REFRESH-INTERVAL;VALUE=DURATION:PT1H
X-Robots-Tag:noindex
X-PUBLISHED-TTL:PT1H
BEGIN:VTIMEZONE
TZID:UTC
BEGIN:STANDARD
TZOFFSETFROM:+0000
TZOFFSETTO:+0000
TZNAME:UTC
DTSTART:20230101T000000
END:STANDARD
END:VTIMEZONE
BEGIN:VEVENT
DTSTART;TZID=UTC:20241028T083000
DTEND;TZID=UTC:20241101T163000
DTSTAMP:20260421T205654
CREATED:20241017T170303Z
LAST-MODIFIED:20241017T171028Z
UID:7367-1730104200-1730478600@dcnydems.org
SUMMARY:Early Voting Weekdays at DCBOE
DESCRIPTION:Cast your vote on the scanner machines at the Delaware County Board of Elections at 97 Main Street\, Suite 5\, Delhi\, NY these weekdays.
URL:https://dcnydems.org/event/early-voting-weekdays-at-dcboe/
LOCATION:DC BOE\, 97 Main Street\, Suite 5\, Delhi\, NY\, 13753-1015\, United States
CATEGORIES:Election
END:VEVENT
BEGIN:VEVENT
DTSTART;TZID=UTC:20241102T090000
DTEND;TZID=UTC:20241103T170000
DTSTAMP:20260421T205654
CREATED:20241017T170658Z
LAST-MODIFIED:20241017T170658Z
UID:7371-1730538000-1730653200@dcnydems.org
SUMMARY:Early Voting Weekends at the DCBOE
DESCRIPTION:Cast your vote on the scanner machines at the Delaware County Board of Elections at 97 Main Street\, Suite 5\, Delhi\, NY over the weekend.
URL:https://dcnydems.org/event/early-voting-weekends-at-the-dcboe-2/
LOCATION:DC BOE\, 97 Main Street\, Suite 5\, Delhi\, NY\, 13753-1015\, United States
CATEGORIES:Election
END:VEVENT
BEGIN:VEVENT
DTSTART;TZID=UTC:20241102T110000
DTEND;TZID=UTC:20241102T170000
DTSTAMP:20260421T205654
CREATED:20241013T001831Z
LAST-MODIFIED:20241013T001831Z
UID:7317-1730545200-1730566800@dcnydems.org
SUMMARY:DCDC HQ Open
DESCRIPTION:The Delaware County Democratic Committee Headquarters in Delhi serves as a hub for voters looking for local information\, voter forms\, lawn signs\, ways to volunteer or a place to meet and talk with fellow Democrats in a friendly environment. In the last weeks before the election\, hours and days will expand. Check back for updates.
URL:https://dcnydems.org/event/dcdc-hq-open-14/
LOCATION:DCDC HQ\, 98 Main Street\, Delhi\, 13753\, United States
CATEGORIES:Tabling Event,Volunteer Event
END:VEVENT
BEGIN:VEVENT
DTSTART;TZID=UTC:20241105T060000
DTEND;TZID=UTC:20241105T210000
DTSTAMP:20260421T205654
CREATED:20240131T204203Z
LAST-MODIFIED:20241104T211328Z
UID:6009-1730786400-1730840400@dcnydems.org
SUMMARY:General Election
DESCRIPTION:General Election Day. Polling locations open 6am-9pm. Not sure where your polling site is? Use this interactive website: \nhttps://voterlookup.elections.ny.gov/ \nFor additional information\, contact the Delaware County Board of Elections in Delhi.
URL:https://dcnydems.org/event/general-election-2/
LOCATION:your polling location
CATEGORIES:Election
END:VEVENT
BEGIN:VEVENT
DTSTART;TZID=UTC:20241120T180000
DTEND;TZID=UTC:20241120T193000
DTSTAMP:20260421T205654
CREATED:20240119T010524Z
LAST-MODIFIED:20240229T030855Z
UID:5843-1732125600-1732131000@dcnydems.org
SUMMARY:DCDC Business Meeting
DESCRIPTION:DCDC Business Meetings are held the 3rd Wednesday of the month. Meetings are held at 6pm via Zoom unless otherwise indicated. Meetings are open to all Democrats. Contact us to receive the meeting Zoom link and meeting protocols.
URL:https://dcnydems.org/event/dcdc-business-meeting-11/
LOCATION:Zoom\, United States
CATEGORIES:DCDC Business Meeting
END:VEVENT
END:VCALENDAR