BEGIN:VCALENDAR
VERSION:2.0
PRODID:-//DCNY Dems - ECPv6.15.20//NONSGML v1.0//EN
CALSCALE:GREGORIAN
METHOD:PUBLISH
X-ORIGINAL-URL:https://dcnydems.org
X-WR-CALDESC:Events for DCNY Dems
REFRESH-INTERVAL;VALUE=DURATION:PT1H
X-Robots-Tag:noindex
X-PUBLISHED-TTL:PT1H
BEGIN:VTIMEZONE
TZID:UTC
BEGIN:STANDARD
TZOFFSETFROM:+0000
TZOFFSETTO:+0000
TZNAME:UTC
DTSTART:20240101T000000
END:STANDARD
END:VTIMEZONE
BEGIN:VEVENT
DTSTART;TZID=UTC:20250225T090000
DTEND;TZID=UTC:20250331T170000
DTSTAMP:20260421T134736
CREATED:20250124T000326Z
LAST-MODIFIED:20250124T000326Z
UID:7630-1740474000-1743440400@dcnydems.org
SUMMARY:Petitioning: Getting Candidates on the Ballot
DESCRIPTION:Petition signatures from registered Democrats in the district is how we get candidates on the ballot. You can help by contacting your local Dem Committee member and letting them know you want to sign. You can also help us witness signatures.
URL:https://dcnydems.org/event/petitioning-getting-candidates-on-the-ballot-2/
CATEGORIES:Petitioning
END:VEVENT
BEGIN:VEVENT
DTSTART;TZID=UTC:20250302T130000
DTEND;TZID=UTC:20250302T140000
DTSTAMP:20260421T134736
CREATED:20250223T220754Z
LAST-MODIFIED:20250223T220754Z
UID:7838-1740920400-1740924000@dcnydems.org
SUMMARY:Virtual Rally
DESCRIPTION:Network. Share. Organize. Resist. Virtual rally via Zoom. Once everything is set up\, visit our home page for information on how to register.
URL:https://dcnydems.org/event/virtual-rally/
LOCATION:Zoom\, United States
CATEGORIES:Public Event (no tabling)
ATTACH;FMTTYPE=image/jpeg:https://dcnydems.org/wp-content/uploads/2025/02/VirtualRallyMarch2.jpg
END:VEVENT
BEGIN:VEVENT
DTSTART;TZID=UTC:20250304T120000
DTEND;TZID=UTC:20250304T140000
DTSTAMP:20260421T134736
CREATED:20250223T221135Z
LAST-MODIFIED:20250223T221135Z
UID:7840-1741089600-1741096800@dcnydems.org
SUMMARY:On Site Rally
DESCRIPTION:Network. Share. Organize. Resist. On site Rally in coordination with the planned 50 50 1 event. More information to come. Check back on this website’s home page for event details to be posted.
URL:https://dcnydems.org/event/on-site-rally/
CATEGORIES:Public Event (no tabling)
ATTACH;FMTTYPE=image/jpeg:https://dcnydems.org/wp-content/uploads/2025/02/RallyDelhiMarch4.jpg
END:VEVENT
BEGIN:VEVENT
DTSTART;TZID=UTC:20250316T130000
DTEND;TZID=UTC:20250316T140000
DTSTAMP:20260421T134736
CREATED:20250311T000437Z
LAST-MODIFIED:20250311T000437Z
UID:7939-1742130000-1742133600@dcnydems.org
SUMMARY:Virtual Rally
DESCRIPTION:BRAINSTORM! Virtual rally via Zoom. Visit our home page for information on how to register.
URL:https://dcnydems.org/event/virtual-rally-2/
LOCATION:Zoom\, United States
CATEGORIES:Public Event (no tabling)
ATTACH;FMTTYPE=image/jpeg:https://dcnydems.org/wp-content/uploads/2025/03/VirtualRallyMarch16.jpg
END:VEVENT
BEGIN:VEVENT
DTSTART;TZID=UTC:20250319T180000
DTEND;TZID=UTC:20250319T180000
DTSTAMP:20260421T134736
CREATED:20250124T000017Z
LAST-MODIFIED:20250124T000017Z
UID:7628-1742407200-1742407200@dcnydems.org
SUMMARY:DCDC Business Meeting
DESCRIPTION:DCDC Business Meetings are held the 3rd Wednesday of the month. Meetings are held at 6pm via Zoom unless otherwise indicated. Meetings are open to all Democrats. Contact us to receive the meeting Zoom link and meeting protocols.
URL:https://dcnydems.org/event/dcdc-business-meeting-14/
LOCATION:Zoom\, United States
CATEGORIES:DCDC Business Meeting
END:VEVENT
BEGIN:VEVENT
DTSTART;TZID=UTC:20250326T173000
DTEND;TZID=UTC:20250326T183000
DTSTAMP:20260421T134736
CREATED:20250323T191050Z
LAST-MODIFIED:20250323T191050Z
UID:8015-1743010200-1743013800@dcnydems.org
SUMMARY:Rep. Josh Riley Telephone Town Hall
DESCRIPTION:To participate\, first\, download and read Josh’s quarterly report. Some of you questions will be answered there. Then register to participate in a NY-19 Telephone Town Hall. Visit our home page for links.
URL:https://dcnydems.org/event/rep-josh-riley-telephone-town-hall/
CATEGORIES:Public Event (no tabling)
END:VEVENT
BEGIN:VEVENT
DTSTART;TZID=UTC:20250330T130000
DTEND;TZID=UTC:20250330T140000
DTSTAMP:20260421T134736
CREATED:20250320T180825Z
LAST-MODIFIED:20250320T180825Z
UID:7961-1743339600-1743343200@dcnydems.org
SUMMARY:DC Resistance Virtual Rally
DESCRIPTION:Virtual Rally via Zoom every alternate Sunday at 1pm. Registration required. Subscribers will be notified via email. Use the red “Subscribe” button on the home page. Updates will also be posted on the home page and on FB.
URL:https://dcnydems.org/event/dc-resistance-virtual-rally/
LOCATION:Zoom\, United States
CATEGORIES:Rally
END:VEVENT
END:VCALENDAR