BEGIN:VCALENDAR
VERSION:2.0
PRODID:-//DCNY Dems - ECPv6.15.20//NONSGML v1.0//EN
CALSCALE:GREGORIAN
METHOD:PUBLISH
X-WR-CALNAME:DCNY Dems
X-ORIGINAL-URL:https://dcnydems.org
X-WR-CALDESC:Events for DCNY Dems
REFRESH-INTERVAL;VALUE=DURATION:PT1H
X-Robots-Tag:noindex
X-PUBLISHED-TTL:PT1H
BEGIN:VTIMEZONE
TZID:UTC
BEGIN:STANDARD
TZOFFSETFROM:+0000
TZOFFSETTO:+0000
TZNAME:UTC
DTSTART:20240101T000000
END:STANDARD
END:VTIMEZONE
BEGIN:VEVENT
DTSTART;TZID=UTC:20250401T180000
DTEND;TZID=UTC:20250401T190000
DTSTAMP:20260421T120710
CREATED:20250323T191520Z
LAST-MODIFIED:20250323T191520Z
UID:8018-1743530400-1743534000@dcnydems.org
SUMMARY:On the Radio
DESCRIPTION:WIOX Roxbury\, 91.3FM. Talk of the Town with Arnie Schwartz. Special Guests DCDC Chair Kathleen Hayek and DCDC volunteer Alan Haley talk about DC Resisters\, real and virtual rallies taking place in Delaware County\, NY. Livestreaming at wioxradio.com
URL:https://dcnydems.org/event/on-the-radio/
LOCATION:WIOX Radio\, United States
CATEGORIES:Public Event (no tabling)
END:VEVENT
BEGIN:VEVENT
DTSTART;TZID=UTC:20250405T100000
DTEND;TZID=UTC:20250405T120000
DTSTAMP:20260421T120710
CREATED:20250320T175537Z
LAST-MODIFIED:20250324T232803Z
UID:7957-1743847200-1743854400@dcnydems.org
SUMMARY:Hands Off Rally
DESCRIPTION:Hands Off rally\, Saturday\, April 5\, 10am-Noon\, Courthouse Square\, Main Street\, Delhi\, NY. Come hear speakers. Bring your friends. Bring your signs so you’re seen and heard. Take photos and videos to share.
URL:https://dcnydems.org/event/hands-off-rally/
LOCATION:Delhi Courthouse Square\, Church Street\, Delhi\, 13753
CATEGORIES:Rally
ATTACH;FMTTYPE=image/jpeg:https://dcnydems.org/wp-content/uploads/2025/03/HandsOffApril5RallyDelhi1_600px.jpg
END:VEVENT
BEGIN:VEVENT
DTSTART;TZID=UTC:20250413T130000
DTEND;TZID=UTC:20250413T140000
DTSTAMP:20260421T120710
CREATED:20250409T175214Z
LAST-MODIFIED:20250409T175320Z
UID:8146-1744549200-1744552800@dcnydems.org
SUMMARY:DC Resisters Virtual Rally Zoom
DESCRIPTION:Virtual Rally via Zoom every alternate Sunday @ 1pm. Registration is required. Zoom link will be sent via email after registration. \nSubscribers will be notified of all upcoming events via eBlast. Use the red “Subscribe” button on the home page. Updates are also posted on the dcnydems.org home page and on Facebook.
URL:https://dcnydems.org/event/dc-resisters-virtual-rally-zoom-april-13/
LOCATION:Zoom\, United States
CATEGORIES:Rally
ATTACH;FMTTYPE=image/jpeg:https://dcnydems.org/wp-content/uploads/2025/04/VirtualRallyApril13.jpg
END:VEVENT
BEGIN:VEVENT
DTSTART;TZID=UTC:20250416T180000
DTEND;TZID=UTC:20250416T180000
DTSTAMP:20260421T120710
CREATED:20250412T180220Z
LAST-MODIFIED:20250412T180220Z
UID:8198-1744826400-1744826400@dcnydems.org
SUMMARY:DCDC Business Meeting
DESCRIPTION:DCDC Business Meetings are held the 3rd Wednesday of the month. Meetings are held at 6pm via Zoom unless otherwise indicated. Meetings are open to all Democrats. Contact us to receive the meeting Zoom link and meeting protocols.
URL:https://dcnydems.org/event/dcdc-business-meeting-16/
LOCATION:Zoom\, United States
CATEGORIES:DCDC Business Meeting
END:VEVENT
BEGIN:VEVENT
DTSTART;TZID=UTC:20250419T100000
DTEND;TZID=UTC:20250419T120000
DTSTAMP:20260421T120710
CREATED:20250409T173810Z
LAST-MODIFIED:20250418T172313Z
UID:8143-1745056800-1745064000@dcnydems.org
SUMMARY:Rally
DESCRIPTION:“Hands Off!” / “No Kings” Rally\, Saturday\, April 19\, 10am-noon\, Courthouse Square\, Main Street\, Delhi. Speakers program at 10am followed by signs in lines along Main Street. “Day of Action” food pantry donations accepted. This event’s collections will benefit the Delhi Food Pantry. Non-perishable food (no expired food\, no glass containers) or cash donations.
URL:https://dcnydems.org/event/rally/
LOCATION:Delhi Courthouse Square\, Church Street\, Delhi\, 13753
CATEGORIES:Rally
END:VEVENT
BEGIN:VEVENT
DTSTART;TZID=UTC:20250427T130000
DTEND;TZID=UTC:20250427T140000
DTSTAMP:20260421T120710
CREATED:20250426T210056Z
LAST-MODIFIED:20250426T210715Z
UID:8277-1745758800-1745762400@dcnydems.org
SUMMARY:DC Resisters Virtual Rally Zoom
DESCRIPTION:Virtual Rally via Zoom every alternate Sunday @ 1pm. Registration is required. Visit the dcnydems.org home page for information and to register. Zoom link will be sent via email after registration. \nSubscribers will be notified of all upcoming events via eBlast. Use the red “Subscribe” button on the home page. Updates are also posted on the dcnydems.org home page and on Facebook.
URL:https://dcnydems.org/event/dc-resisters-virtual-rally-zoom/
LOCATION:Zoom\, United States
CATEGORIES:Rally
ATTACH;FMTTYPE=image/jpeg:https://dcnydems.org/wp-content/uploads/2025/04/VirtualRallyApril27.jpg
END:VEVENT
END:VCALENDAR